BEGIN:VCALENDAR
VERSION:2.0
PRODID:icalendar-ruby
CALSCALE:GREGORIAN
METHOD:PUBLISH
BEGIN:VEVENT
DTSTAMP:20260421T222746Z
UID:1248-1346406@stpeterscomox.ca
DTSTART:20261010T203000Z
DTEND:20261010T220000Z
CLASS:PUBLIC
CREATED:20260421T135759
DESCRIPTION:St Peter's choir has priority for these hours\, but does not al
 ways have a rehearsal. Please inquire with the office if you're interested
  in this time.
LAST-MODIFIED:20260421T135759
LOCATION:Church
SUMMARY:Choir Practice
URL;VALUE=URI:https://www.stpeterscomox.ca/events/choir-practice--1248/2026
 -10-10
END:VEVENT
END:VCALENDAR
