BEGIN:VCALENDAR
VERSION:2.0
PRODID:icalendar-ruby
CALSCALE:GREGORIAN
METHOD:PUBLISH
BEGIN:VEVENT
DTSTAMP:20260422T000620Z
UID:1248-1347560@stpeterscomox.ca
DTSTART:20261017T203000Z
DTEND:20261017T220000Z
CLASS:PUBLIC
CREATED:20260421T163628
DESCRIPTION:St Peter's choir has priority for these hours\, but does not al
 ways have a rehearsal. Please inquire with the office if you're interested
  in this time.
LAST-MODIFIED:20260421T163628
LOCATION:Church
SUMMARY:Choir Practice
URL;VALUE=URI:https://www.stpeterscomox.ca/events/choir-practice--1248/2026
 -10-17
END:VEVENT
END:VCALENDAR
