BEGIN:VCALENDAR
VERSION:2.0
PRODID:icalendar-ruby
CALSCALE:GREGORIAN
METHOD:PUBLISH
BEGIN:VEVENT
DTSTAMP:20260422T015435Z
UID:1248-1347561@stpeterscomox.ca
DTSTART:20261024T203000Z
DTEND:20261024T220000Z
CLASS:PUBLIC
CREATED:20260421T163628
DESCRIPTION:St Peter's choir has priority for these hours\, but does not al
 ways have a rehearsal. Please inquire with the office if you're interested
  in this time.
LAST-MODIFIED:20260421T163628
LOCATION:Church
SUMMARY:Choir Practice
URL;VALUE=URI:https://www.stpeterscomox.ca/events/choir-practice--1248/2026
 -10-24
END:VEVENT
END:VCALENDAR
