BEGIN:VCALENDAR
VERSION:2.0
PRODID:icalendar-ruby
CALSCALE:GREGORIAN
METHOD:PUBLISH
BEGIN:VEVENT
DTSTAMP:20260423T111343Z
UID:599-439699@stpeterscomox.ca
DTSTART:20240622T173000Z
DTEND:20240622T193000Z
CLASS:PUBLIC
CREATED:20250902T095733
DESCRIPTION:For more information please contact Terry and Jackie using the 
 contact form below.
LAST-MODIFIED:20250902T095733
LOCATION:Corker Hall
SUMMARY:Joyful Discovery AA group
URL;VALUE=URI:https://www.stpeterscomox.ca/events/joyful-discovery-aa-group
 --599/2024-06-22
END:VEVENT
END:VCALENDAR
