BEGIN:VCALENDAR
VERSION:2.0
PRODID:icalendar-ruby
CALSCALE:GREGORIAN
METHOD:PUBLISH
BEGIN:VEVENT
DTSTAMP:20260421T204942Z
UID:1322-1345431@stpeterscomox.ca
DTSTART:20261003T173000Z
DTEND:20261003T193000Z
CLASS:PUBLIC
CREATED:20260421T112133
DESCRIPTION:
LAST-MODIFIED:20260421T112133
LOCATION:Main Hall
SUMMARY:Joyful Discovery
URL;VALUE=URI:https://www.stpeterscomox.ca/events/joyful-discovery/2026-10-
 03
END:VEVENT
END:VCALENDAR
