BEGIN:VCALENDAR
VERSION:2.0
PRODID:icalendar-ruby
CALSCALE:GREGORIAN
METHOD:PUBLISH
BEGIN:VEVENT
DTSTAMP:20260421T222407Z
UID:1322-1346585@stpeterscomox.ca
DTSTART:20261010T173000Z
DTEND:20261010T193000Z
CLASS:PUBLIC
CREATED:20260421T135800
DESCRIPTION:
LAST-MODIFIED:20260421T135800
LOCATION:Main Hall
SUMMARY:Joyful Discovery
URL;VALUE=URI:https://www.stpeterscomox.ca/events/joyful-discovery/2026-10-
 10
END:VEVENT
END:VCALENDAR
