BEGIN:VCALENDAR
VERSION:2.0
PRODID:icalendar-ruby
CALSCALE:GREGORIAN
METHOD:PUBLISH
BEGIN:VEVENT
DTSTAMP:20260422T000224Z
UID:1322-1347739@stpeterscomox.ca
DTSTART:20261017T173000Z
DTEND:20261017T193000Z
CLASS:PUBLIC
CREATED:20260421T163629
DESCRIPTION:
LAST-MODIFIED:20260421T163629
LOCATION:Main Hall
SUMMARY:Joyful Discovery
URL;VALUE=URI:https://www.stpeterscomox.ca/events/joyful-discovery/2026-10-
 17
END:VEVENT
END:VCALENDAR
