BEGIN:VCALENDAR
VERSION:2.0
PRODID:icalendar-ruby
CALSCALE:GREGORIAN
METHOD:PUBLISH
BEGIN:VEVENT
DTSTAMP:20260421T214936Z
UID:1232-1346324@stpeterscomox.ca
DTSTART:20261010T200000Z
DTEND:20261011T001500Z
CLASS:PUBLIC
CREATED:20260421T135759
DESCRIPTION:
LAST-MODIFIED:20260421T135759
LOCATION:Big Hall
SUMMARY:K9 Kind Dog Training
URL;VALUE=URI:https://www.stpeterscomox.ca/events/k9-kind-dog-training--123
 2/2026-10-10
END:VEVENT
END:VCALENDAR
