BEGIN:VCALENDAR
VERSION:2.0
PRODID:icalendar-ruby
CALSCALE:GREGORIAN
METHOD:PUBLISH
BEGIN:VEVENT
DTSTAMP:20260421T234938Z
UID:1232-1347478@stpeterscomox.ca
DTSTART:20261017T200000Z
DTEND:20261018T001500Z
CLASS:PUBLIC
CREATED:20260421T163628
DESCRIPTION:
LAST-MODIFIED:20260421T163628
LOCATION:Big Hall
SUMMARY:K9 Kind Dog Training
URL;VALUE=URI:https://www.stpeterscomox.ca/events/k9-kind-dog-training--123
 2/2026-10-17
END:VEVENT
END:VCALENDAR
