BEGIN:VCALENDAR
VERSION:2.0
PRODID:icalendar-ruby
CALSCALE:GREGORIAN
METHOD:PUBLISH
BEGIN:VEVENT
DTSTAMP:20260422T032138Z
UID:1232-1347480@stpeterscomox.ca
DTSTART:20261031T200000Z
DTEND:20261101T001500Z
CLASS:PUBLIC
CREATED:20260421T163628
DESCRIPTION:
LAST-MODIFIED:20260421T163628
LOCATION:Big Hall
SUMMARY:K9 Kind Dog Training
URL;VALUE=URI:https://www.stpeterscomox.ca/events/k9-kind-dog-training--123
 2/2026-10-31
END:VEVENT
END:VCALENDAR
