BEGIN:VCALENDAR
VERSION:2.0
PRODID:icalendar-ruby
CALSCALE:GREGORIAN
METHOD:PUBLISH
BEGIN:VEVENT
DTSTAMP:20260421T064359Z
UID:1292-1340709@stpeterscomox.ca
DTSTART:20261021T213000Z
DTEND:20261022T021500Z
CLASS:PUBLIC
CREATED:20260420T162352
DESCRIPTION:
LAST-MODIFIED:20260420T162352
LOCATION:Big Hall
SUMMARY:K9 Kind Dog Training
URL;VALUE=URI:https://www.stpeterscomox.ca/events/k9-kind-dog-training--129
 2/2026-10-21
END:VEVENT
END:VCALENDAR
