BEGIN:VCALENDAR
VERSION:2.0
PRODID:icalendar-ruby
CALSCALE:GREGORIAN
METHOD:PUBLISH
BEGIN:VEVENT
DTSTAMP:20260421T123336Z
UID:1292-1341862@stpeterscomox.ca
DTSTART:20261028T213000Z
DTEND:20261029T021500Z
CLASS:PUBLIC
CREATED:20260421T032940
DESCRIPTION:
LAST-MODIFIED:20260421T032940
LOCATION:Big Hall
SUMMARY:K9 Kind Dog Training
URL;VALUE=URI:https://www.stpeterscomox.ca/events/k9-kind-dog-training--129
 2/2026-10-28
END:VEVENT
END:VCALENDAR
