BEGIN:VCALENDAR
VERSION:2.0
PRODID:icalendar-ruby
CALSCALE:GREGORIAN
METHOD:PUBLISH
BEGIN:VEVENT
DTSTAMP:20260425T102942Z
UID:1293-1368502@stpeterscomox.ca
DTSTART:20261105T223000Z
DTEND:20261106T031500Z
CLASS:PUBLIC
CREATED:20260424T174056
DESCRIPTION:
LAST-MODIFIED:20260424T174056
LOCATION:Big Hall
SUMMARY:K9 Kind Dog Training
URL;VALUE=URI:https://www.stpeterscomox.ca/events/k9-kind-dog-training--129
 3/2026-11-05
END:VEVENT
END:VCALENDAR
