BEGIN:VCALENDAR
VERSION:2.0
PRODID:icalendar-ruby
CALSCALE:GREGORIAN
METHOD:PUBLISH
BEGIN:VEVENT
DTSTAMP:20260421T104539Z
UID:843-1341394@stpeterscomox.ca
DTSTART:20261012T173000Z
DTEND:20261012T183000Z
CLASS:PUBLIC
CREATED:20260421T032939
DESCRIPTION:For more information contact Ron Girard by using the contact fo
 rm below.
LAST-MODIFIED:20260421T032939
LOCATION:Corker Hall
SUMMARY:Men's Bible Study
URL;VALUE=URI:https://www.stpeterscomox.ca/events/mens-bible-study--843/202
 6-10-12
END:VEVENT
END:VCALENDAR
