BEGIN:VCALENDAR
VERSION:2.0
PRODID:icalendar-ruby
CALSCALE:GREGORIAN
METHOD:PUBLISH
BEGIN:VEVENT
DTSTAMP:20260421T134343Z
UID:843-1342548@stpeterscomox.ca
DTSTART:20261026T173000Z
DTEND:20261026T183000Z
CLASS:PUBLIC
CREATED:20260421T060538
DESCRIPTION:For more information contact Ron Girard by using the contact fo
 rm below.
LAST-MODIFIED:20260421T060538
LOCATION:Corker Hall
SUMMARY:Men's Bible Study
URL;VALUE=URI:https://www.stpeterscomox.ca/events/mens-bible-study--843/202
 6-10-26
END:VEVENT
END:VCALENDAR
