BEGIN:VCALENDAR
VERSION:2.0
PRODID:icalendar-ruby
CALSCALE:GREGORIAN
METHOD:PUBLISH
BEGIN:VEVENT
DTSTAMP:20260422T193928Z
UID:509-1351387@stpeterscomox.ca
DTSTART:20261006T160000Z
DTEND:20261006T200000Z
CLASS:PUBLIC
CREATED:20260422T121733
DESCRIPTION:
LAST-MODIFIED:20260422T121733
LOCATION:
SUMMARY:Office hours
URL;VALUE=URI:https://www.stpeterscomox.ca/events/office-hours/2026-10-06
END:VEVENT
END:VCALENDAR
