BEGIN:VCALENDAR
VERSION:2.0
PRODID:icalendar-ruby
CALSCALE:GREGORIAN
METHOD:PUBLISH
BEGIN:VEVENT
DTSTAMP:20260422T222937Z
UID:509-1352543@stpeterscomox.ca
DTSTART:20261020T160000Z
DTEND:20261020T200000Z
CLASS:PUBLIC
CREATED:20260422T151204
DESCRIPTION:
LAST-MODIFIED:20260422T151204
LOCATION:
SUMMARY:Office hours
URL;VALUE=URI:https://www.stpeterscomox.ca/events/office-hours/2026-10-20
END:VEVENT
END:VCALENDAR
