BEGIN:VCALENDAR
VERSION:2.0
PRODID:icalendar-ruby
CALSCALE:GREGORIAN
METHOD:PUBLISH
BEGIN:VEVENT
DTSTAMP:20260423T013852Z
UID:509-1353700@stpeterscomox.ca
DTSTART:20261103T170000Z
DTEND:20261103T210000Z
CLASS:PUBLIC
CREATED:20260422T180350
DESCRIPTION:
LAST-MODIFIED:20260422T180350
LOCATION:
SUMMARY:Office hours
URL;VALUE=URI:https://www.stpeterscomox.ca/events/office-hours/2026-11-03
END:VEVENT
END:VCALENDAR
