BEGIN:VCALENDAR
VERSION:2.0
PRODID:icalendar-ruby
CALSCALE:GREGORIAN
METHOD:PUBLISH
BEGIN:VEVENT
DTSTAMP:20260420T085017Z
UID:1398-1262072@stpeterscomox.ca
DTSTART:20260918T221500Z
DTEND:20260919T040000Z
CLASS:PUBLIC
CREATED:20260409T092405
DESCRIPTION:
LAST-MODIFIED:20260409T092405
LOCATION:
SUMMARY:Studio G Dance Academy
URL;VALUE=URI:https://www.stpeterscomox.ca/events/studio-g-dance-academy--1
 398/2026-09-18
END:VEVENT
END:VCALENDAR
