BEGIN:VCALENDAR
VERSION:2.0
PRODID:icalendar-ruby
CALSCALE:GREGORIAN
METHOD:PUBLISH
BEGIN:VEVENT
DTSTAMP:20260422T110119Z
UID:1398-1262074@stpeterscomox.ca
DTSTART:20261002T221500Z
DTEND:20261003T040000Z
CLASS:PUBLIC
CREATED:20260409T092405
DESCRIPTION:
LAST-MODIFIED:20260409T092405
LOCATION:
SUMMARY:Studio G Dance Academy
URL;VALUE=URI:https://www.stpeterscomox.ca/events/studio-g-dance-academy--1
 398/2026-10-02
END:VEVENT
END:VCALENDAR
