BEGIN:VCALENDAR
VERSION:2.0
PRODID:icalendar-ruby
CALSCALE:GREGORIAN
METHOD:PUBLISH
BEGIN:VEVENT
DTSTAMP:20260422T220043Z
UID:1398-1262082@stpeterscomox.ca
DTSTART:20261127T231500Z
DTEND:20261128T050000Z
CLASS:PUBLIC
CREATED:20260409T092405
DESCRIPTION:
LAST-MODIFIED:20260409T092405
LOCATION:
SUMMARY:Studio G Dance Academy
URL;VALUE=URI:https://www.stpeterscomox.ca/events/studio-g-dance-academy--1
 398/2026-11-27
END:VEVENT
END:VCALENDAR
