BEGIN:VCALENDAR
VERSION:2.0
PRODID:icalendar-ruby
CALSCALE:GREGORIAN
METHOD:PUBLISH
BEGIN:VEVENT
DTSTAMP:20260423T210007Z
UID:1398-1262098@stpeterscomox.ca
DTSTART:20270423T221500Z
DTEND:20270424T040000Z
CLASS:PUBLIC
CREATED:20260409T092405
DESCRIPTION:
LAST-MODIFIED:20260409T092405
LOCATION:
SUMMARY:Studio G Dance Academy
URL;VALUE=URI:https://www.stpeterscomox.ca/events/studio-g-dance-academy--1
 398/2027-04-23
END:VEVENT
END:VCALENDAR
