BEGIN:VCALENDAR
VERSION:2.0
PRODID:icalendar-ruby
CALSCALE:GREGORIAN
METHOD:PUBLISH
BEGIN:VEVENT
DTSTAMP:20260422T113016Z
UID:1400-1262106@stpeterscomox.ca
DTSTART:20261116T231500Z
DTEND:20261117T050000Z
CLASS:PUBLIC
CREATED:20260409T092438
DESCRIPTION:
LAST-MODIFIED:20260409T092438
LOCATION:
SUMMARY:Studio G Dance Academy
URL;VALUE=URI:https://www.stpeterscomox.ca/events/studio-g-dance-academy--1
 399/2026-11-16
END:VEVENT
END:VCALENDAR
