BEGIN:VCALENDAR
VERSION:2.0
PRODID:icalendar-ruby
CALSCALE:GREGORIAN
METHOD:PUBLISH
BEGIN:VEVENT
DTSTAMP:20260423T115028Z
UID:1400-1262124@stpeterscomox.ca
DTSTART:20270503T221500Z
DTEND:20270504T040000Z
CLASS:PUBLIC
CREATED:20260409T092438
DESCRIPTION:
LAST-MODIFIED:20260409T092438
LOCATION:
SUMMARY:Studio G Dance Academy
URL;VALUE=URI:https://www.stpeterscomox.ca/events/studio-g-dance-academy--1
 399/2027-05-03
END:VEVENT
END:VCALENDAR
